BEGIN:VCALENDAR
VERSION:2.0
PRODID:-//Centre sportif des Ascenseurs - ECPv6.2.2//NONSGML v1.0//EN
CALSCALE:GREGORIAN
METHOD:PUBLISH
X-ORIGINAL-URL:https://www.leroeulxsport.be
X-WR-CALDESC:évènements pour Centre sportif des Ascenseurs
REFRESH-INTERVAL;VALUE=DURATION:PT1H
X-Robots-Tag:noindex
X-PUBLISHED-TTL:PT1H
BEGIN:VTIMEZONE
TZID:Europe/Paris
BEGIN:DAYLIGHT
TZOFFSETFROM:+0100
TZOFFSETTO:+0200
TZNAME:CEST
DTSTART:20220327T010000
END:DAYLIGHT
BEGIN:STANDARD
TZOFFSETFROM:+0200
TZOFFSETTO:+0100
TZNAME:CET
DTSTART:20221030T010000
END:STANDARD
END:VTIMEZONE
BEGIN:VEVENT
DTSTART;TZID=Europe/Paris:20220816T090000
DTEND;TZID=Europe/Paris:20220819T160000
DTSTAMP:20260422T162034
CREATED:20220614T121717Z
LAST-MODIFIED:20220712T115538Z
UID:34184-1660640400-1660924800@www.leroeulxsport.be
SUMMARY:Stage multisports du 16 au 19 août 2022
DESCRIPTION:
URL:https://www.leroeulxsport.be/event/stage-multisports-du-16-au-19-aout-2022/
LOCATION:Centre Sportif des Ascenseurs\, Allée des Sports\, 2\, Thieu\, 7070\, Belgique
CATEGORIES:Stages enfants
ATTACH;FMTTYPE=image/jpeg:https://www.leroeulxsport.be/wp-content/uploads/2022/06/affiche-stage-Centre-sportif-10.jpg
ORGANIZER;CN="Centre Sportif des Ascenseurs":MAILTO:contact@leroeulxsport.be
END:VEVENT
END:VCALENDAR