BEGIN:VCALENDAR
VERSION:2.0
PRODID:-//Centre sportif des Ascenseurs - ECPv6.2.2//NONSGML v1.0//EN
CALSCALE:GREGORIAN
METHOD:PUBLISH
X-ORIGINAL-URL:https://www.leroeulxsport.be
X-WR-CALDESC:évènements pour Centre sportif des Ascenseurs
REFRESH-INTERVAL;VALUE=DURATION:PT1H
X-Robots-Tag:noindex
X-PUBLISHED-TTL:PT1H
BEGIN:VTIMEZONE
TZID:Europe/Paris
BEGIN:DAYLIGHT
TZOFFSETFROM:+0100
TZOFFSETTO:+0200
TZNAME:CEST
DTSTART:20220327T010000
END:DAYLIGHT
BEGIN:STANDARD
TZOFFSETFROM:+0200
TZOFFSETTO:+0100
TZNAME:CET
DTSTART:20221030T010000
END:STANDARD
END:VTIMEZONE
BEGIN:VEVENT
DTSTART;TZID=Europe/Paris:20220711T090000
DTEND;TZID=Europe/Paris:20220715T160000
DTSTAMP:20260422T175619
CREATED:20220614T095020Z
LAST-MODIFIED:20220711T112258Z
UID:34150-1657530000-1657900800@www.leroeulxsport.be
SUMMARY:Stage multisports du 11 au 15 juillet 2022
DESCRIPTION:Stage sportif pour les enfants de 7 à 12 ans du 11/07 au 15/07 – 75€ – avec moniteur breveté Adeps – garderie à partir de 8h15 et jusque 17h00. \nAu programme : multisports\, crosse canadienne\, freesbee\, volleyball\, hockey\, baseball\, kinball\, basketball\, gymnastique\, athlétisme\, … \nSi les conditions climatiques le permettent\, les enfants auront l’occasion d’effecteur du sport dans les aires de jeux de l’entité. \nPossibilité de repas chauds le midi pour 25€ la semaine. \nN’hésitez pas à nous contacter au 064/65.20.64 ou au 0487/58.89.30 pour des renseignements complémentaires.
URL:https://www.leroeulxsport.be/event/stage-multisports-du-11-au-15-juillet-2022/
LOCATION:Centre Sportif des Ascenseurs\, Allée des Sports\, 2\, Thieu\, 7070\, Belgique
CATEGORIES:Stages enfants
ATTACH;FMTTYPE=image/jpeg:https://www.leroeulxsport.be/wp-content/uploads/2022/05/affiche-stage-Centre-sportif-07.jpg
ORGANIZER;CN="Centre Sportif des Ascenseurs":MAILTO:contact@leroeulxsport.be
END:VEVENT
END:VCALENDAR