BEGIN:VCALENDAR
VERSION:2.0
PRODID:-//Centre sportif des Ascenseurs - ECPv6.2.2//NONSGML v1.0//EN
CALSCALE:GREGORIAN
METHOD:PUBLISH
X-WR-CALNAME:Centre sportif des Ascenseurs
X-ORIGINAL-URL:https://www.leroeulxsport.be
X-WR-CALDESC:évènements pour Centre sportif des Ascenseurs
REFRESH-INTERVAL;VALUE=DURATION:PT1H
X-Robots-Tag:noindex
X-PUBLISHED-TTL:PT1H
BEGIN:VTIMEZONE
TZID:Europe/Paris
BEGIN:DAYLIGHT
TZOFFSETFROM:+0100
TZOFFSETTO:+0200
TZNAME:CEST
DTSTART:20250330T010000
END:DAYLIGHT
BEGIN:STANDARD
TZOFFSETFROM:+0200
TZOFFSETTO:+0100
TZNAME:CET
DTSTART:20251026T010000
END:STANDARD
END:VTIMEZONE
BEGIN:VEVENT
DTSTART;TZID=Europe/Paris:20251020T080000
DTEND;TZID=Europe/Paris:20251024T170000
DTSTAMP:20260421T164659
CREATED:20250901T090314Z
LAST-MODIFIED:20250911T091249Z
UID:34797-1760947200-1761325200@www.leroeulxsport.be
SUMMARY:Stage multisports pour les enfants de 3 à 6 ans
DESCRIPTION:INSCRIPTION EN CLIQUANT ICI \nParlez-en sur
URL:https://www.leroeulxsport.be/event/stage-multisports-pour-les-enfants-de-3-a-6-ans-9/
LOCATION:Centre Sportif des Ascenseurs\, Allée des Sports\, 2\, Thieu\, 7070\, Belgique
CATEGORIES:Stages enfants
ATTACH;FMTTYPE=image/jpeg:https://www.leroeulxsport.be/wp-content/uploads/2025/09/M02-Affiche.jpeg
ORGANIZER;CN="Centre Sportif des Ascenseurs":MAILTO:contact@leroeulxsport.be
END:VEVENT
END:VCALENDAR