BEGIN:VCALENDAR
VERSION:2.0
PRODID:-//Centre sportif des Ascenseurs - ECPv6.2.2//NONSGML v1.0//EN
CALSCALE:GREGORIAN
METHOD:PUBLISH
X-WR-CALNAME:Centre sportif des Ascenseurs
X-ORIGINAL-URL:https://www.leroeulxsport.be
X-WR-CALDESC:évènements pour Centre sportif des Ascenseurs
REFRESH-INTERVAL;VALUE=DURATION:PT1H
X-Robots-Tag:noindex
X-PUBLISHED-TTL:PT1H
BEGIN:VTIMEZONE
TZID:Europe/Paris
BEGIN:DAYLIGHT
TZOFFSETFROM:+0100
TZOFFSETTO:+0200
TZNAME:CEST
DTSTART:20250330T010000
END:DAYLIGHT
BEGIN:STANDARD
TZOFFSETFROM:+0200
TZOFFSETTO:+0100
TZNAME:CET
DTSTART:20251026T010000
END:STANDARD
END:VTIMEZONE
BEGIN:VEVENT
DTSTART;TZID=Europe/Paris:20250913T090000
DTEND;TZID=Europe/Paris:20250913T170000
DTSTAMP:20260421T181108
CREATED:20250903T121330Z
LAST-MODIFIED:20250903T125647Z
UID:34800-1757754000-1757782800@www.leroeulxsport.be
SUMMARY:Journée portes ouvertes 2025
DESCRIPTION:Parlez-en sur
URL:https://www.leroeulxsport.be/event/journee-portes-ouvertes-2025/
LOCATION:Centre Sportif des Ascenseurs\, Allée des Sports\, 2\, Thieu\, 7070\, Belgique
ATTACH;FMTTYPE=image/png:https://www.leroeulxsport.be/wp-content/uploads/2025/09/Affiche-journee-portes-ouvertes-2025.png
ORGANIZER;CN="Centre Sportif des Ascenseurs":MAILTO:contact@leroeulxsport.be
END:VEVENT
END:VCALENDAR