BEGIN:VCALENDAR
VERSION:2.0
PRODID:-//Centre sportif des Ascenseurs - ECPv6.2.2//NONSGML v1.0//EN
CALSCALE:GREGORIAN
METHOD:PUBLISH
X-WR-CALNAME:Centre sportif des Ascenseurs
X-ORIGINAL-URL:https://www.leroeulxsport.be
X-WR-CALDESC:évènements pour Centre sportif des Ascenseurs
REFRESH-INTERVAL;VALUE=DURATION:PT1H
X-Robots-Tag:noindex
X-PUBLISHED-TTL:PT1H
BEGIN:VTIMEZONE
TZID:Europe/Paris
BEGIN:DAYLIGHT
TZOFFSETFROM:+0100
TZOFFSETTO:+0200
TZNAME:CEST
DTSTART:20260329T010000
END:DAYLIGHT
BEGIN:STANDARD
TZOFFSETFROM:+0200
TZOFFSETTO:+0100
TZNAME:CET
DTSTART:20261025T010000
END:STANDARD
END:VTIMEZONE
BEGIN:VEVENT
DTSTART;TZID=Europe/Paris:20260207T100000
DTEND;TZID=Europe/Paris:20260207T160000
DTSTAMP:20260421T182247
CREATED:20260113T120840Z
LAST-MODIFIED:20260113T120840Z
UID:34825-1770458400-1770480000@www.leroeulxsport.be
SUMMARY:Journée bien-être du 7 février 2026
DESCRIPTION:Inscription en cliquant ici\nParlez-en sur
URL:https://www.leroeulxsport.be/event/journee-bien-etre-du-7-fevrier-2026/
LOCATION:Centre Sportif des Ascenseurs\, Allée des Sports\, 2\, Thieu\, 7070\, Belgique
CATEGORIES:Stages adultes
ATTACH;FMTTYPE=image/jpeg:https://www.leroeulxsport.be/wp-content/uploads/2026/01/M03-Affiche.jpg
ORGANIZER;CN="Centre Sportif des Ascenseurs":MAILTO:contact@leroeulxsport.be
END:VEVENT
END:VCALENDAR